BEGIN:VCALENDAR
VERSION:2.0
PRODID:-//ChamberMaster//Event Calendar 2.0//EN
METHOD:PUBLISH
X-PUBLISHED-TTL:P3D
REFRESH-INTERVAL:P3D
CALSCALE:GREGORIAN
BEGIN:VEVENT
DTSTART:20251028T163000Z
DTEND:20251028T180000Z
X-MICROSOFT-CDO-ALLDAYEVENT:FALSE
SUMMARY:2025 Annual Chamber Membership Luncheon
DESCRIPTION:Annual Membership Luncheon\n\n  Tuesday\, October 28\, 2025\n\n  11:30 a.m. (arrive as early as 11:00 for lunch service)\n\n  Goose Pond Civic Center\n\nJoin us for one of the Chamber's most anticipated events of the year! This special luncheon celebrates our valued members and investors while recognizing outstanding leaders and community partners.\n\nWhat to Expect:\n\n\n	\n	A delicious lunch\, ready as soon as you arrive \n	\n	\n	Lots of prizes generously donated by fellow members \n	\n	\n	Awards and recognition honoring excellence in our community \n	\n	\n	An engaging Chamber update no keynote speaker\, just highlights of the year and what's ahead \n	\n\n\nDon't miss this signature day of connection\, recognition\, and fun. We look forward to celebrating with you!
X-ALT-DESC;FMTTYPE=text/html:<p data-end="276" data-start="111"><strong data-end="141" data-start="111">Annual Membership Luncheon</strong><br data-end="144" data-start="141" />\n&#128197\; <strong data-end="176" data-start="147">Tuesday\, October 28\, 2025</strong><br data-end="179" data-start="176" />\n&#128358\; <strong data-end="196" data-start="182">11:30 a.m.</strong> (arrive as early as 11:00 for lunch service)<br data-end="244" data-start="241" />\n&#128205\; <strong data-end="274" data-start="247">Goose Pond Civic Center</strong></p>\n\n<p data-end="477" data-start="278">Join us for one of the Chamber&rsquo\;s most anticipated events of the year! This special luncheon celebrates our valued members and investors while recognizing outstanding leaders and community partners.</p>\n\n<p data-end="498" data-start="479">What to Expect:</p>\n\n<ul data-end="777" data-start="499">\n	<li data-end="552" data-start="499">\n	<p data-end="552" data-start="501">A delicious lunch\, ready as soon as you arrive&nbsp\;</p>\n	</li>\n	<li data-end="611" data-start="553">\n	<p data-end="611" data-start="555">Lots of prizes generously donated by fellow members&nbsp\;</p>\n	</li>\n	<li data-end="678" data-start="612">\n	<p data-end="678" data-start="614">Awards and recognition honoring excellence in our community&nbsp\;</p>\n	</li>\n	<li data-end="777" data-start="679">\n	<p data-end="777" data-start="681">An engaging Chamber update&mdash\;no keynote speaker\, just highlights of the year and what&rsquo\;s ahead&nbsp\;</p>\n	</li>\n</ul>\n\n<p data-end="888" data-start="779">Don&rsquo\;t miss this signature day of connection\, recognition\, and fun. We look forward to celebrating with you!</p>\n
LOCATION:
UID:e.2186.2538
SEQUENCE:3
DTSTAMP:20260426T010332Z
URL:http://business.mountainlakeschamberofcommerce.com/events/details/2025-annual-chamber-membership-luncheon-2538
END:VEVENT

END:VCALENDAR
