BEGIN:VCALENDAR
VERSION:2.0
PRODID:-//ChamberMaster//Event Calendar 2.0//EN
METHOD:PUBLISH
X-PUBLISHED-TTL:P3D
REFRESH-INTERVAL:P3D
CALSCALE:GREGORIAN
BEGIN:VEVENT
DTSTART:20250925T223000Z
DTEND:20250925T233000Z
X-MICROSOFT-CDO-ALLDAYEVENT:FALSE
SUMMARY:BASH! (Business Associates Social Hour)
DESCRIPTION:You're Invited to the BASH!   \n\nGrab your friends and join us for a fun-filled evening at Jefferson's on Thursday\, September 25!\n\nWe're bringing the energy with:\n\n  Free food\n\n  Free drink tickets\n\n  Awesome prizes\n\n  5:30   6:30 p.m.\n\nThis is your chance to mix\, mingle\, and connect with some of the best people in our community all while having a great time! Don't miss it!\n\n  Thank you Redstone Federal Credit Union for sponsoring!\n\nWe can't wait to see you there!
X-ALT-DESC;FMTTYPE=text/html:<p data-end="139" data-start="102">&#10024\;&#127881\; You&rsquo\;re Invited to the BASH! &#127881\;&#10024\;</p>\n\n<p data-end="340" data-start="141">Grab your friends and join us for a fun-filled evening at <strong data-end="214" data-start="199">Jefferson&rsquo\;s</strong> on <strong data-end="244" data-start="218">Thursday\, September 25</strong>!<br data-end="248" data-start="245" />\nWe&rsquo\;re bringing the energy with:<br data-end="282" data-start="279" />\n&#127828\; Free food<br data-end="297" data-start="294" />\n&#127865\; Free drink tickets<br data-end="321" data-start="318" />\n&#127873\; Awesome prizes</p>\n\n<p data-end="362" data-start="342">&#9200\; 5:30 &ndash\; 6:30 p.m.</p>\n\n<p data-end="505" data-start="364">This is your chance to mix\, mingle\, and connect with some of the best people in our community&mdash\;all while having a great time! Don&rsquo\;t miss it!</p>\n\n<p data-end="558" data-start="507">&#128161\;<strong> Thank you</strong>&nbsp\;<strong data-end="556" data-start="523">Redstone Federal Credit Union </strong><strong data-end="556" data-start="523">for sponsoring!</strong></p>\n\n<p data-end="593" data-start="560">We can&rsquo\;t wait to see you there!</p>\n
LOCATION:
UID:e.2186.2536
SEQUENCE:3
DTSTAMP:20260426T030438Z
URL:http://business.mountainlakeschamberofcommerce.com/events/details/bash-business-associates-social-hour-2536
END:VEVENT

END:VCALENDAR
