BEGIN:VCALENDAR
VERSION:2.0
PRODID:-//ChamberMaster//Event Calendar 2.0//EN
METHOD:PUBLISH
X-PUBLISHED-TTL:P3D
REFRESH-INTERVAL:P3D
CALSCALE:GREGORIAN
BEGIN:VEVENT
DTSTART:20260122T230000Z
DTEND:20260123T000000Z
X-MICROSOFT-CDO-ALLDAYEVENT:FALSE
SUMMARY:BASH - Business Associates Social Hour
DESCRIPTION:BASH   Business Associates Social Hour\n\nEVERYONE INVITED!\n\nJoin us for a fun and lively BASH (Business Associates Social Hour) on Thursday\, January 22 at 5:00 p.m. at Courtyard Cucina\, our premier new Italian restaurant.\n\nEnjoy sampling delicious Italian cuisine while reconnecting with friends\, meeting new faces\, and networking with business and community leaders from across the county. This is a great opportunity to welcome entrepreneurs who are opening new businesses\, make valuable connections\, and grow your professional circle all in a relaxed\, social setting.\n\nPlus\, there will be prizes\, great conversation\, and plenty of energy. You truly never know who you'll meet at a Chamber BASH. Hosted by our outstanding Chamber Emissaries\, this is one event you don't want to miss they always deliver a fantastic evening!\n\n \n\nSponsored by Family Security Credit Union
X-ALT-DESC;FMTTYPE=text/html:<div class="xdj266r x11i5rnm xat24cr x1mh8g0r x1vvkbs x126k92a" style="margin: 0px\; white-space: pre-wrap\; overflow-wrap: break-word\; font-family: &quot\;Segoe UI Historic&quot\;\, &quot\;Segoe UI&quot\;\, Helvetica\, Arial\, sans-serif\; color: rgb(5\, 5\, 5)\; font-size: 15px\;">\n<div dir="auto" style="font-family: inherit\;">\n<p data-end="129" data-start="87"><strong data-end="129" data-start="87">BASH &bull\; Business Associates Social Hour</strong></p>\n\n<p data-end="129" data-start="87"><strong data-end="129" data-start="87">EVERYONE INVITED!</strong></p>\n\n<p data-end="306" data-start="131">Join us for a fun and lively <strong data-end="202" data-start="160">BASH (Business Associates Social Hour)</strong> on <strong data-end="243" data-start="206">Thursday\, January 22 at 5:00 p.m.</strong> at <strong data-end="267" data-start="247">Courtyard Cucina</strong>\, our premier new Italian restaurant.</p>\n\n<p data-end="657" data-start="308">Enjoy sampling delicious Italian cuisine while reconnecting with friends\, meeting new faces\, and networking with business and community leaders from across the county. This is a great opportunity to welcome entrepreneurs who are opening new businesses\, make valuable connections\, and grow your professional circle&mdash\;all in a relaxed\, social setting.</p>\n\n<p data-end="918" data-start="659">Plus\, there will be prizes\, great conversation\, and plenty of energy. You truly never know who you&rsquo\;ll meet at a Chamber BASH. Hosted by our outstanding <strong data-end="833" data-start="811">Chamber Emissaries</strong>\, this is one event you don&rsquo\;t want to miss&mdash\;they always deliver a fantastic evening!</p>\n\n<p data-end="128" data-start="86">&nbsp\;</p>\n\n<p data-end="965" data-is-last-node="" data-is-only-node="" data-start="920"><strong data-end="965" data-is-last-node="" data-start="920">Sponsored by Family Security Credit Union</strong></p>\n</div>\n</div>\n\n<div class="x11i5rnm xat24cr x1mh8g0r x1vvkbs xtlvy1s x126k92a" style="margin: 0.5em 0px 0px\; white-space: pre-wrap\; overflow-wrap: break-word\; font-family: &quot\;Segoe UI Historic&quot\;\, &quot\;Segoe UI&quot\;\, Helvetica\, Arial\, sans-serif\; color: rgb(5\, 5\, 5)\; font-size: 15px\;">\n<div dir="auto" style="font-family: inherit\;">&nbsp\;</div>\n</div>\n
LOCATION:
UID:e.2186.2566
SEQUENCE:3
DTSTAMP:20260425T224625Z
URL:http://business.mountainlakeschamberofcommerce.com/events/details/bash-business-associates-social-hour-2566
END:VEVENT

END:VCALENDAR
