BEGIN:VCALENDAR
VERSION:2.0
PRODID:-//ChamberMaster//Event Calendar 2.0//EN
METHOD:PUBLISH
X-PUBLISHED-TTL:P3D
REFRESH-INTERVAL:P3D
CALSCALE:GREGORIAN
BEGIN:VEVENT
DTSTART:20251120T133000Z
DTEND:20251120T143000Z
X-MICROSOFT-CDO-ALLDAYEVENT:FALSE
SUMMARY:Bridgeport Early Bird Breakfast
DESCRIPTION:Bridgeport Early Bird Breakfast   \n\nSponsored & Hosted by USG\n\n  Thursday\, November 20\n\n  7:30 a.m.\n\n  USG   100 D.J. Nootens Drive\, Bridgeport\n\nRise and shine with us for a delicious breakfast and a morning full of community spirit! Come hear about all the exciting things happening in Bridgeport and at United States Gypsum (USG)   both outstanding Chamber partners. (Tell the Gate you're with the Early Bird Breakfast!)\n\nWe appreciate USG for hosting and look forward to seeing everyone bright and early!
X-ALT-DESC;FMTTYPE=text/html:<p data-end="148" data-start="75">&#127749\; <strong data-end="113" data-start="78">Bridgeport Early Bird Breakfast</strong> &#9749\;&#65039\;<br data-end="119" data-start="116" />\n<strong data-end="148" data-start="119">Sponsored &amp\; Hosted by USG</strong></p>\n\n<p data-end="247" data-start="150">&#128197\; <strong data-end="178" data-start="153">Thursday\, November 20</strong><br data-end="181" data-start="178" />\n&#128354\; <strong data-end="197" data-start="184">7:30 a.m.</strong><br data-end="200" data-start="197" />\n&#128205\; <strong data-end="247" data-start="203">USG &ndash\; 100 D.J. Nootens Drive\, Bridgeport</strong></p>\n\n<p data-end="484" data-start="249">Rise and shine with us for a delicious breakfast and a morning full of community spirit! Come hear about all the <strong data-end="439" data-start="362">exciting things happening in Bridgeport and at United States Gypsum (USG)</strong> &mdash\; both outstanding Chamber partners. (Tell the Gate you&#39\;re with the Early Bird Breakfast!)</p>\n\n<p data-end="574" data-start="486">We appreciate USG for hosting and look forward to seeing everyone bright and early! &#127775\;</p>\n
LOCATION:
UID:e.2186.2554
SEQUENCE:3
DTSTAMP:20260425T225226Z
URL:http://business.mountainlakeschamberofcommerce.com/events/details/bridgeport-early-bird-breakfast-2554
END:VEVENT

END:VCALENDAR
