BEGIN:VCALENDAR
VERSION:2.0
PRODID:-//ChamberMaster//Event Calendar 2.0//EN
METHOD:PUBLISH
X-PUBLISHED-TTL:P3D
REFRESH-INTERVAL:P3D
CALSCALE:GREGORIAN
BEGIN:VEVENT
DTSTART:20250918T123000Z
DTEND:20250918T133000Z
X-MICROSOFT-CDO-ALLDAYEVENT:FALSE
SUMMARY:Bridgeport Trail of Tears Early Bird Breakfast
DESCRIPTION:YOU ARE INVITED!\n\nPlease join us at the 2025 Bridgeport Early Bird Breakfast: Trail of Tears Kickoff for a memorable tribute!\n\nThursday\, September 18th\n\n7:30 a.m.\n\nDowntown Bridgeport Amphitheater\n\nAcross from 411 Alabama Avenue\n\n(This year's Trail of Tears Early Bird is sponsored by Bridgeport Utilities. Thank you!)
X-ALT-DESC;FMTTYPE=text/html:<span style="background:white\;"><span style="color:#080809\;"><span style="font-family:segoe ui historic\,sans-serif\;"><span style="font-size:11.5pt\;">YOU ARE INVITED!</span></span></span></span><br />\n<span style="color:#080809\;"><span style="font-family:segoe ui historic\,sans-serif\;"><span style="font-size:11.5pt\;"><span style="background:white\;">Please join us at the 2025 Bridgeport Early Bird Breakfast: Trail of Tears Kickoff for a memorable tribute!</span><br />\n<span style="background:white\;">Thursday\, September 18th</span><br />\n<span style="background:white\;">7:30 a.m.</span><br />\n<span style="background:white\;">Downtown Bridgeport Amphitheater</span><br />\n<span style="background:white\;">Across from 411 Alabama Avenue</span><br />\n<span style="background:white\;">(This year&#39\;s Trail of Tears Early Bird is sponsored by Bridgeport Utilities. Thank you!)</span></span></span></span>
LOCATION:
UID:e.2186.2535
SEQUENCE:3
DTSTAMP:20260426T031115Z
URL:http://business.mountainlakeschamberofcommerce.com/events/details/bridgeport-trail-of-tears-early-bird-breakfast-2535
END:VEVENT

END:VCALENDAR
