BEGIN:VCALENDAR
VERSION:2.0
PRODID:-//ChamberMaster//Event Calendar 2.0//EN
METHOD:PUBLISH
X-PUBLISHED-TTL:P3D
REFRESH-INTERVAL:P3D
CALSCALE:GREGORIAN
BEGIN:VEVENT
DTSTART:20251213T150000Z
DTEND:20251214T230000Z
X-MICROSOFT-CDO-ALLDAYEVENT:FALSE
SUMMARY:Christmas Market
DESCRIPTION:December 13 & 14\, 2025 9 am - 5 pm Located at Scottsboro Jackson County Rescue Squad 404 Cedar Hill Drive\, Scottsboro\, AL This is the same event as Christmas at the Library. We loved having it at the library\, but we've outgrown it! There will be artists\, makers\, food vendors and\, of course\, Santa & Mrs. Claus will be there\, date and time to be announced.
X-ALT-DESC;FMTTYPE=text/html:December 13 &amp\; 14\, 2025 9 am - 5 pm Located at Scottsboro Jackson County Rescue Squad 404 Cedar Hill Drive\, Scottsboro\, AL This is the same event as Christmas at the Library. We loved having it at the library\, but we&#39\;ve outgrown it! There will be artists\, makers\, food vendors and\, of course\, Santa &amp\; Mrs. Claus will be there\, date and time to be announced.
LOCATION:Scottsboro Jackson County Rescue Squad 404 Cedar Hill Drive Scottsboro \, AL
UID:e.2186.2512
SEQUENCE:3
DTSTAMP:20260425T203838Z
URL:http://business.mountainlakeschamberofcommerce.com/events/details/christmas-market-2512
END:VEVENT

END:VCALENDAR
