BEGIN:VCALENDAR
VERSION:2.0
PRODID:-//ChamberMaster//Event Calendar 2.0//EN
METHOD:PUBLISH
X-PUBLISHED-TTL:P3D
REFRESH-INTERVAL:P3D
CALSCALE:GREGORIAN
BEGIN:VEVENT
DTSTART:20251214T200000Z
DTEND:20251214T220000Z
X-MICROSOFT-CDO-ALLDAYEVENT:FALSE
SUMMARY:Cookies With Santa | Presented by: Highlands Medical Center
DESCRIPTION:Highlands Medical Center presents: Cookies With Santa!\n\nYou're invited for some holiday cheer to celebrate this special time of year!\n\nComplimentary:\n\n- Pictures with Santa\n\n- Letters to Santa\n\n- Cookies\n\n- Hot Cocoa\n\n- Santa's story time
X-ALT-DESC;FMTTYPE=text/html:Highlands Medical Center presents: Cookies With Santa!<br />\nYou&#39\;re invited for some holiday cheer to celebrate this special time of year!<br />\nComplimentary:<br />\n- Pictures with Santa<br />\n- Letters to Santa<br />\n- Cookies<br />\n- Hot Cocoa<br />\n- Santa&#39\;s story time
LOCATION:Highlands Medical Center lobby 380 Woods Cove Road Scottsboro
UID:e.2186.2555
SEQUENCE:3
DTSTAMP:20260425T204032Z
URL:http://business.mountainlakeschamberofcommerce.com/events/details/cookies-with-santa-presented-by-highlands-medical-center-2555
END:VEVENT

END:VCALENDAR
