BEGIN:VCALENDAR
VERSION:2.0
PRODID:-//ChamberMaster//Event Calendar 2.0//EN
METHOD:PUBLISH
X-PUBLISHED-TTL:P3D
REFRESH-INTERVAL:P3D
CALSCALE:GREGORIAN
BEGIN:VEVENT
DTSTART:20260306T160000Z
DTEND:20260306T160000Z
X-MICROSOFT-CDO-ALLDAYEVENT:FALSE
SUMMARY:Grace Thrift Store Ribbon Cutting
DESCRIPTION:Ribbon Cutting   Grace Thrift Store  \n\n \n\nGrace Thrift Store   Scottsboro\n\n \n\nThe Mountain Lakes Chamber of Commerce invites you to celebrate the Grand Opening of the NEW Furniture Addition at Grace Thrift Store\, a ministry of Community Care Village!\n\n \n\n  March 6\n\n  10 a.m.\n\n  Grace Thrift Store   1603 S Broad St D Scottsboro\, AL\n\n \n\nGrace Thrift Store has become one of Scottsboro's most cost-effective\, customer-friendly\, and community-oriented thrift stores. And now we're growing!\n\n \n\nOur brand-new addition is fully devoted to furniture\, offering quality pieces at unbeatable prices. Whether you're furnishing a home\, refreshing a space\, or searching for that one-of-a-kind find\, Grace is the place to discover value with purpose.\n\n \n\nBut Grace Thrift Store is about more than great deals.\n\n \n\nEvery purchase helps support our mission to serve the community by:\n\n         Assisting families who have experienced the loss of a home\n\n         Providing clothing for job interviews\n\n         Offering support to individuals facing homelessness\n\n         Meeting practical needs with dignity and compassion\n\n         Funding other community projects for foster families and those in recovery.\n\n \n\nWhen you shop at Grace\, you're not just finding treasures you're helping change lives.\n\n \n\nCome celebrate growth\, community\, and the impact we can make together.\n\n \n\nGrace Thrift Store\n\nA Ministry of Community Care Village\n\nServing Scottsboro with Purpose\n\n \n\nWe look forward to seeing you there!
X-ALT-DESC;FMTTYPE=text/html:<strong><span style="font-family:segoe ui emoji\,sans-serif\;"><span style="font-size:18.0pt\;">&#127881\;</span></span></strong><strong><span style="font-family:aptos\,sans-serif\;"><span style="font-size:18.0pt\;"> Ribbon Cutting &ndash\; Grace Thrift Store </span></span></strong><strong><span style="font-family:segoe ui emoji\,sans-serif\;"><span style="font-size:18.0pt\;">&#127881\;</span></span></strong><br />\n&nbsp\;<br />\n<strong><span style="color:black\;">Grace Thrift Store &ndash\; Scottsboro</span></strong><br />\n&nbsp\;<br />\n<strong><span style="color:black\;">The Mountain Lakes Chamber of Commerce invites you to celebrate the Grand Opening of the NEW Furniture Addition at Grace Thrift Store\, a ministry of Community Care Village!</span></strong><br />\n&nbsp\;<br />\n<strong><span style="color:black\;"><span style="font-family:segoe ui emoji\,sans-serif\;">&#128467\;</span></span><span style="color:black\;"> March 6</span></strong><br />\n<strong><span style="background:yellow\;"><span style="color:black\;"><span style="font-family:segoe ui emoji\,sans-serif\;">&#9200\;</span></span></span><span style="background:yellow\;"><span style="color:black\;"> 10 a.m.</span></span></strong><br />\n<strong><span style="color:black\;"><span style="font-family:segoe ui emoji\,sans-serif\;">&#128205\;</span></span><span style="color:black\;"> Grace Thrift Store &ndash\; 1603 S Broad St D Scottsboro\, AL</span></strong><br />\n&nbsp\;<br />\n<strong><span style="color:black\;">Grace Thrift Store has become one of Scottsboro&rsquo\;s most cost-effective\, customer-friendly\, and community-oriented thrift stores. And now&mdash\;we&rsquo\;re growing!</span></strong><br />\n&nbsp\;<br />\n<strong><span style="color:black\;">Our brand-new addition is fully devoted to furniture\, offering quality pieces at unbeatable prices. Whether you&rsquo\;re furnishing a home\, refreshing a space\, or searching for that one-of-a-kind find\, Grace is the place to discover value with purpose.</span></strong><br />\n&nbsp\;<br />\n<strong><span style="color:black\;">But Grace Thrift Store is about more than great deals.</span></strong><br />\n&nbsp\;<br />\n<strong><span style="color:black\;">Every purchase helps support our mission to serve the community by:</span></strong><br />\n<strong><span style="color:black\;">&nbsp\;&nbsp\;&nbsp\;&nbsp\;&bull\;&nbsp\;&nbsp\;&nbsp\;&nbsp\;Assisting families who have experienced the loss of a home</span></strong><br />\n<strong><span style="color:black\;">&nbsp\;&nbsp\;&nbsp\;&nbsp\;&bull\;&nbsp\;&nbsp\;&nbsp\;&nbsp\;Providing clothing for job interviews</span></strong><br />\n<strong><span style="color:black\;">&nbsp\;&nbsp\;&nbsp\;&nbsp\;&bull\;&nbsp\;&nbsp\;&nbsp\;&nbsp\;Offering support to individuals facing homelessness</span></strong><br />\n<strong><span style="color:black\;">&nbsp\;&nbsp\;&nbsp\;&nbsp\;&bull\;&nbsp\;&nbsp\;&nbsp\;&nbsp\;Meeting practical needs with dignity and compassion</span></strong><br />\n<strong><span style="color:black\;">&nbsp\;&nbsp\;&nbsp\;&nbsp\;&bull\;&nbsp\;&nbsp\;&nbsp\;&nbsp\;Funding other community projects for foster families and those in recovery.</span></strong><br />\n&nbsp\;<br />\n<strong><span style="color:black\;">When you shop at Grace\, you&rsquo\;re not just finding treasures&mdash\;you&rsquo\;re helping change lives.</span></strong><br />\n&nbsp\;<br />\n<strong><span style="color:black\;">Come celebrate growth\, community\, and the impact we can make together.</span></strong><br />\n&nbsp\;<br />\n<strong><span style="color:black\;">Grace Thrift Store</span></strong><br />\n<strong><span style="color:black\;">A Ministry of Community Care Village</span></strong><br />\n<strong><span style="color:black\;">Serving Scottsboro with Purpose</span></strong><br />\n&nbsp\;<br />\n<strong><span style="color:black\;">We look forward to seeing you there!</span></strong>
LOCATION:
UID:e.2186.2574
SEQUENCE:3
DTSTAMP:20260425T102952Z
URL:http://business.mountainlakeschamberofcommerce.com/events/details/grace-thrift-store-ribbon-cutting-2574
END:VEVENT

END:VCALENDAR
