BEGIN:VCALENDAR
VERSION:2.0
PRODID:-//ChamberMaster//Event Calendar 2.0//EN
METHOD:PUBLISH
X-PUBLISHED-TTL:P3D
REFRESH-INTERVAL:P3D
CALSCALE:GREGORIAN
BEGIN:VEVENT
DTSTART:20250921T170000Z
DTEND:20250921T173000Z
X-MICROSOFT-CDO-ALLDAYEVENT:FALSE
SUMMARY:Ribbon Cutting at Mud Creek Baptist Church
DESCRIPTION:Mud Creek Baptist Church\n\n  123 County Rd 50\, Hollywood\, AL\n\n  Sunday\, September 21\n\n  12:00 p.m. (immediately following church service)\n\nCome celebrate with Pastor Dr. James Jeffery and the wonderful Mud Creek Baptist Church membership as they dedicate their beautiful new church. Enjoy fellowship and community spirit as we cut the ribbon on this inspiring new chapter for their congregation!
X-ALT-DESC;FMTTYPE=text/html:<span style="font-family:segoe ui emoji\,sans-serif\;">&#127881\;</span> <strong>Mud Creek Baptist Church</strong><br />\n<span style="font-family:segoe ui emoji\,sans-serif\;">&#128205\;</span> 123 County Rd 50\, Hollywood\, AL<br />\n<span style="font-family:segoe ui emoji\,sans-serif\;">&#128197\;</span> Sunday\, September 21<br />\n<span style="font-family:segoe ui emoji\,sans-serif\;">&#128347\;</span> 12:00 p.m. (immediately following church service)<br />\nCome celebrate with Pastor Dr. James Jeffery and the wonderful Mud Creek Baptist Church membership as they dedicate their beautiful new church. Enjoy fellowship and community spirit as we cut the ribbon on this inspiring new chapter for their congregation!
LOCATION:
UID:e.2186.2532
SEQUENCE:3
DTSTAMP:20260426T030615Z
URL:http://business.mountainlakeschamberofcommerce.com/events/details/ribbon-cutting-at-mud-creek-baptist-church-2532
END:VEVENT

END:VCALENDAR
