BEGIN:VCALENDAR
VERSION:2.0
PRODID:-//ChamberMaster//Event Calendar 2.0//EN
METHOD:PUBLISH
X-PUBLISHED-TTL:P3D
REFRESH-INTERVAL:P3D
CALSCALE:GREGORIAN
BEGIN:VEVENT
DTSTART;VALUE=DATE:20260501
DTEND;VALUE=DATE:20260502
TRANSP:TRANSPARENT
X-MICROSOFT-CDO-ALLDAYEVENT:TRUE
SUMMARY:Ribbon Cutting for Courtyard Cucina's Patio spaces and The Spring Menu Release
DESCRIPTION:Who's ready for a complimentary beverage and antipasta?!\n\nJoin us at Courtyard Cucina as we celebrate their new additions and fresh spring menu!   \n\nCome sip\, sample\, and see what's new then stay and treat yourself to lunch while you're there. Trust us  you're going to want to  \n\nWe can't wait to see you!
X-ALT-DESC;FMTTYPE=text/html:<p>&nbsp\;</p>\n\n<hr />\n<p>Who&rsquo\;s ready for a <strong>complimentary beverage and antipasta</strong>?!</p>\n\n<p>Join us at <strong>Courtyard Cucina</strong> as we celebrate their&nbsp\;new additions and fresh spring menu! &#127800\;&#127837\;</p>\n\n<p>Come sip\, sample\, and see what&rsquo\;s new&mdash\;then stay and treat yourself to lunch while you&rsquo\;re there. Trust us&hellip\; you&rsquo\;re going to want to &#128521\;</p>\n\n<p>We can&rsquo\;t wait to see you!</p>\n
LOCATION:Courtyard Cucina
UID:e.2186.2590
SEQUENCE:3
DTSTAMP:20260420T182801Z
URL:http://business.mountainlakeschamberofcommerce.com/events/details/ribbon-cutting-for-courtyard-cucina-s-patio-spaces-and-the-spring-menu-release-2590
END:VEVENT

END:VCALENDAR
