BEGIN:VCALENDAR
VERSION:2.0
PRODID:-//ChamberMaster//Event Calendar 2.0//EN
METHOD:PUBLISH
X-PUBLISHED-TTL:P3D
REFRESH-INTERVAL:P3D
CALSCALE:GREGORIAN
BEGIN:VEVENT
DTSTART:20251009T163000Z
DTEND:20251009T180000Z
X-MICROSOFT-CDO-ALLDAYEVENT:FALSE
SUMMARY:Social Media on a Budget Lunch N Learn
DESCRIPTION:THIS EVENT IS FULL. PLEASE RSVP TO WAITING LIST\n\nYou are invited to a Lunch n Learn with Athens State University to learn about Social Media on a Budget!\n\nThis is a FREE event and a wonderful way to learn something new that can help your business!\n\nWe have reached our maximum headcount of 25\, but we'd be happy to place you on a waiting list: martha@mountainlakeschamber.com\n\n10/09\n\n11:30 a.m.\n\n@The Chamber             \n\n407 East Willow Street\n\nScottsboro\n\nInformation: 256.259.5500
X-ALT-DESC;FMTTYPE=text/html:<span style="color:black\;"><span style="font-family:aptos\,sans-serif\;"><span style="font-size:12.0pt\;">THIS EVENT IS FULL. PLEASE RSVP TO WAITING LIST<br />\nYou are invited to a Lunch n Learn with Athens State University to learn about Social Media on a Budget!</span></span></span><br />\n<span style="color:black\;"><span style="font-family:aptos\,sans-serif\;"><span style="font-size:12.0pt\;">This is a FREE event and a wonderful way to learn something new that can help your business!</span></span></span><br />\n<font color="#000000" face="aptos\, sans-serif"><span style="font-size: 16px\;">We have reached our maximum headcount of 25\, but we&#39\;d be happy to place you on a waiting list: martha@mountainlakeschamber.com</span></font><br />\n<span style="color:black\;"><span style="font-family:aptos\,sans-serif\;"><span style="font-size:12.0pt\;">10/09</span></span></span><br />\n<span style="color:black\;"><span style="font-family:aptos\,sans-serif\;"><span style="font-size:12.0pt\;">11:30 a.m.</span></span></span><br />\n<span style="color:black\;"><span style="font-family:aptos\,sans-serif\;"><span style="font-size:12.0pt\;">@The Chamber &nbsp\; &nbsp\; &nbsp\; &nbsp\; &nbsp\; &nbsp\;&nbsp\;</span></span></span><br />\n<span style="color:black\;"><span style="font-family:aptos\,sans-serif\;"><span style="font-size:12.0pt\;">407 East Willow Street</span></span></span><br />\n<span style="color:black\;"><span style="font-family:aptos\,sans-serif\;"><span style="font-size:12.0pt\;">Scottsboro</span></span></span><br />\n<span style="color:black\;"><span style="font-family:aptos\,sans-serif\;"><span style="font-size:12.0pt\;">Information: 256.259.5500</span></span></span>
LOCATION:
UID:e.2186.2537
SEQUENCE:3
DTSTAMP:20260426T025944Z
URL:http://business.mountainlakeschamberofcommerce.com/events/details/social-media-on-a-budget-lunch-n-learn-2537
END:VEVENT

END:VCALENDAR
