BEGIN:VCALENDAR
VERSION:2.0
PRODID:-//ChamberMaster//Event Calendar 2.0//EN
METHOD:PUBLISH
X-PUBLISHED-TTL:P3D
REFRESH-INTERVAL:P3D
CALSCALE:GREGORIAN
BEGIN:VEVENT
DTSTART:20251002T150000Z
DTEND:20251002T153000Z
X-MICROSOFT-CDO-ALLDAYEVENT:FALSE
SUMMARY:Songbird Story Farmhouse and Garden Tower
DESCRIPTION:Songbird Story Farmhouse\n\n  16902 Alabama Highway 71\, Pisgah\, AL\n\n  Thursday\, October 2\n\n  4:00 p.m.\n\nStep back in time at this lovingly restored 1940s farmhouse with vintage charm\, modern comforts\, and sweeping countryside views. Meet the hosts and explore this unique lodging spot that blends history\, hospitality\, and a touch of magic in rural Jackson County.
X-ALT-DESC;FMTTYPE=text/html:&#127881\; Songbird Story Farmhouse<br data-end="1859" data-start="1856" />\n&#128205\; 16902 Alabama Highway 71\, Pisgah\, AL<br data-end="1901" data-start="1898" />\n&#128197\; Thursday\, October 2<br data-end="1926" data-start="1923" />\n&#128339\; 4:00 p.m.<br data-end="1941" data-start="1938" />\nStep back in time at this lovingly restored 1940s farmhouse with vintage charm\, modern comforts\, and sweeping countryside views. Meet the hosts and explore this unique lodging spot that blends history\, hospitality\, and a touch of magic in rural Jackson County.
LOCATION:
UID:e.2186.2533
SEQUENCE:3
DTSTAMP:20260426T010624Z
URL:http://business.mountainlakeschamberofcommerce.com/events/details/songbird-story-farmhouse-and-garden-tower-2533
END:VEVENT

END:VCALENDAR
