BEGIN:VCALENDAR
VERSION:2.0
PRODID:-//ChamberMaster//Event Calendar 2.0//EN
METHOD:PUBLISH
X-PUBLISHED-TTL:P3D
REFRESH-INTERVAL:P3D
CALSCALE:GREGORIAN
BEGIN:VEVENT
DTSTART:20251110T160000Z
DTEND:20251110T163000Z
X-MICROSOFT-CDO-ALLDAYEVENT:FALSE
SUMMARY:SouthernCare New Beacon (Scottsboro) Ribbon Cutting
DESCRIPTION:Ribbon Cutting Celebration!  \n\nJoin us as we celebrate SouthernCare New Beacon Scottsboro\, one of our newest Chamber members!\n\n  Monday\, November 10\n\n  10:00 a.m.\n\n  301 South Houston Street\, Scottsboro\n\nCome meet Markita and her wonderful team\, enjoy a warm welcome\, and help us officially celebrate their opening in our community. We can't wait to see you there as we show our appreciation and support for our newest Chamber family members!
X-ALT-DESC;FMTTYPE=text/html:<p data-end="138" data-start="99">&#127872\; <strong data-end="133" data-start="102">Ribbon Cutting Celebration!</strong> &#127872\;</p>\n\n<p data-end="240" data-start="140">Join us as we celebrate <strong data-end="202" data-start="164">SouthernCare New Beacon Scottsboro</strong>\, one of our newest Chamber members!</p>\n\n<p data-end="336" data-start="242">&#128197\; <strong data-end="268" data-start="245">Monday\, November 10</strong><br data-end="271" data-start="268" />\n&#128345\; <strong data-end="288" data-start="274">10:00 a.m.</strong><br data-end="291" data-start="288" />\n&#128205\; <strong data-end="334" data-start="294">301 South Houston Street\, Scottsboro</strong></p>\n\n<p data-end="586" data-start="338">Come meet <strong data-end="382" data-start="348">Markita and her wonderful team</strong>\, enjoy a warm welcome\, and help us officially celebrate their opening in our community. We can&rsquo\;t wait to see you there as we show our appreciation and support for our newest Chamber family members! &#128156\;&#10024\;</p>\n
LOCATION:
UID:e.2186.2553
SEQUENCE:3
DTSTAMP:20260425T225710Z
URL:http://business.mountainlakeschamberofcommerce.com/events/details/southerncare-new-beacon-scottsboro-ribbon-cutting-2553
END:VEVENT

END:VCALENDAR
