BEGIN:VCALENDAR
VERSION:2.0
PRODID:-//ChamberMaster//Event Calendar 2.0//EN
METHOD:PUBLISH
X-PUBLISHED-TTL:P3D
REFRESH-INTERVAL:P3D
CALSCALE:GREGORIAN
BEGIN:VEVENT
DTSTART:20250417T163000Z
DTEND:20250417T170000Z
X-MICROSOFT-CDO-ALLDAYEVENT:FALSE
SUMMARY:Fast Pace Health Urgent Care Ribbon Cutting / Grand Opening
DESCRIPTION:Fast Pace Health Urgent Care Grand Opening / Ribbon Cutting
X-ALT-DESC;FMTTYPE=text/html:Fast Pace Health Urgent Care Grand Opening / Ribbon Cutting
LOCATION:324 Micah Way Suite 225 Scottsboro\, AL
UID:e.2186.2500
SEQUENCE:3
DTSTAMP:20260423T183210Z
URL:https://business.mountainlakeschamberofcommerce.com/events/details/fast-pace-health-urgent-care-ribbon-cutting-grand-opening-2500
END:VEVENT

END:VCALENDAR
